BEGIN:VCALENDAR
VERSION:2.0
PRODID:-//ChamberMaster//Event Calendar 2.0//EN
METHOD:PUBLISH
X-PUBLISHED-TTL:P3D
REFRESH-INTERVAL:P3D
CALSCALE:GREGORIAN
BEGIN:VEVENT
DTSTART:20190619T153000Z
DTEND:20190619T170000Z
X-MICROSOFT-CDO-ALLDAYEVENT:FALSE
SUMMARY:Monthly Member Meeting & Luncheon
DESCRIPTION:Join us for our June Membership Meeting and Luncheon and get a first peek and a tour at Denison's new Michael D. Eisner Center for the Performing Arts!
X-ALT-DESC;FMTTYPE=text/html:Join us for our June Membership Meeting and Luncheon and get a first peek and a tour at Denison&#39\;s new Michael D. Eisner Center for the Performing Arts!
LOCATION:Michael D. Eisner Center for the Performing Arts 240 West Broadway Granville\, OH 43023
UID:e.180.12619
SEQUENCE:3
DTSTAMP:20260420T102035Z
URL:http://business.granvilleoh.com/events/details/monthly-member-meeting-luncheon-12619
END:VEVENT

END:VCALENDAR
