BEGIN:VCALENDAR
VERSION:2.0
PRODID:-//ChamberMaster//Event Calendar 2.0//EN
METHOD:PUBLISH
X-PUBLISHED-TTL:P3D
REFRESH-INTERVAL:P3D
CALSCALE:GREGORIAN
BEGIN:VEVENT
DTSTART:20190918T153000Z
DTEND:20190918T170000Z
X-MICROSOFT-CDO-ALLDAYEVENT:FALSE
SUMMARY:Monthly Member Meeting & Luncheon
DESCRIPTION:We will gather at Middleton Senior Living for our September Member Meeting and Luncheon which is sure to be another culinary feast!  Our speaker for this occasion will be Frank Agin - founder and principal of the AmSpirit  Business Connections Network and host of the Networking Rx podcast.  Day in and day out Frank is helping entrepreneurs\, sales representatives and professionals become more successful with networking.  Frank will share valuable pointers and tips on How to Network Like A Pro.  Don't miss this opportunity to build your skills and add to your networking "toolbox"...your business will surely benefit!
X-ALT-DESC;FMTTYPE=text/html:We will gather at Middleton Senior Living for our September Member Meeting and Luncheon which is sure to be another culinary feast!&nbsp\; Our speaker for this occasion will be Frank Agin - founder and principal of the AmSpirit&nbsp\; Business Connections Network and host of the Networking Rx podcast.&nbsp\; Day in and day out Frank is helping entrepreneurs\, sales representatives and professionals become more successful with networking.&nbsp\; Frank will share valuable pointers and tips on How to Network Like A Pro.&nbsp\; Don&#39\;t miss this opportunity to build your skills and add to your networking &quot\;toolbox&quot\;...your business will surely benefit!
LOCATION:Middleton Senior Living 1500 Weaver Drive Granville\, OH 43023
UID:e.180.12848
SEQUENCE:3
DTSTAMP:20260422T115728Z
URL:http://business.granvilleoh.com/events/details/monthly-member-meeting-luncheon-12848
END:VEVENT

END:VCALENDAR
