BEGIN:VCALENDAR
VERSION:2.0
PRODID:-//ChamberMaster//Event Calendar 2.0//EN
METHOD:PUBLISH
X-PUBLISHED-TTL:P3D
REFRESH-INTERVAL:P3D
CALSCALE:GREGORIAN
BEGIN:VEVENT
DTSTART:20191120T163000Z
DTEND:20191120T180000Z
X-MICROSOFT-CDO-ALLDAYEVENT:FALSE
SUMMARY:Monthly Member Meeting & Luncheon
DESCRIPTION:Make a plan now to attend this special monthly Meeting during which we will showcase many of our own cultural and educational organizations and institutions.  Participating member organizations will have a display table where they will exhibit brochures and other informational/promotional materials.   They will also be allowed up to 4 minutes each to introduce themselves/their organizations as well as describe the services they provide to the community.  As a special added attraction our Luncheon buffet will be prepared and served by C-TEC's own Culinary Arts students who assure us that no one will go away hungry from this event!
X-ALT-DESC;FMTTYPE=text/html:Make a plan now to attend this special monthly Meeting during which we will showcase many of our own cultural and educational organizations and institutions.&nbsp\; Participating member organizations will have a display table where they will exhibit brochures and other informational/promotional materials.&nbsp\; &nbsp\;They will also be allowed up to 4 minutes each to introduce themselves/their organizations as well as describe the services they provide to the community.&nbsp\; As a special added attraction our Luncheon buffet will be prepared and served by C-TEC&#39\;s own Culinary Arts students who assure us that no one will go away hungry from this event!
LOCATION:C-TEC Career and Technology Education Centers of Licking County 150 Price Road Newark\, OH 43055
UID:e.180.13957
SEQUENCE:3
DTSTAMP:20260422T144538Z
URL:http://business.granvilleoh.com/events/details/monthly-member-meeting-luncheon-13957
END:VEVENT

END:VCALENDAR
