BEGIN:VCALENDAR
VERSION:2.0
PRODID:-//ChamberMaster//Event Calendar 2.0//EN
METHOD:PUBLISH
X-PUBLISHED-TTL:P3D
REFRESH-INTERVAL:P3D
CALSCALE:GREGORIAN
BEGIN:VEVENT
DTSTART:20180815T153000Z
DTEND:20180815T170000Z
X-MICROSOFT-CDO-ALLDAYEVENT:FALSE
SUMMARY:Monthly Membership Meeting & Luncheon
DESCRIPTION:Our Membership Meeting this month will feature Kerry Shea Penland who is the Entrepreneur Coach and active partner in the Red Frame Laboratory at Denison University.  Come learn more about the University's innovative efforts to promote entrepreneurial spirit among students and within the local community.  Kerry Shea will also team up briefly with Steve Krak of DU's Red Frame Laboratory and together they will expose us to elements of a 'Designing Your Life' exercise. \n\n\n\nWe are grateful to the Manufacturers' Education Council for sponsoring our Membership Meeting this month.
X-ALT-DESC;FMTTYPE=text/html:Our Membership Meeting this month will feature Kerry Shea Penland who is the Entrepreneur Coach and active partner in the Red Frame Laboratory at Denison University.&nbsp\; Come learn more about the University&#39\;s innovative efforts to promote entrepreneurial spirit among students and within the local community.&nbsp\; Kerry Shea will also team up briefly with Steve Krak of DU&#39\;s Red Frame Laboratory and together they will expose us to elements of a &#39\;Designing Your Life&#39\; exercise.&nbsp\;<br />\n<br />\nWe are grateful to the Manufacturers&#39\; Education Council for sponsoring our Membership Meeting this month.&nbsp\;
LOCATION:Kendal at Granville 2158 Columbus Rd Granville\, OH 43023
UID:e.180.11947
SEQUENCE:3
DTSTAMP:20260419T182350Z
URL:http://business.granvilleoh.com/events/details/monthly-membership-meeting-luncheon-11947
END:VEVENT

END:VCALENDAR
