BEGIN:VCALENDAR
VERSION:2.0
PRODID:-//ChamberMaster//Event Calendar 2.0//EN
METHOD:PUBLISH
X-PUBLISHED-TTL:P3D
REFRESH-INTERVAL:P3D
CALSCALE:GREGORIAN
BEGIN:VEVENT
DTSTART:20190320T153000Z
DTEND:20190320T170000Z
X-MICROSOFT-CDO-ALLDAYEVENT:FALSE
SUMMARY:Monthly Membership Meeting & Luncheon
DESCRIPTION:Our March Membership Meeting and Luncheon will feature a presentation by Park National Bank's own Brad Zellar.  Brad is Vice President and Portfolio Manager at PNB's downtown office and he will provide timely observations regarding current economic and financial market conditions.  Because of the wide interest in this topic\, and our downtown venue\, we are also opening up this Meeting and Luncheon to members of the Licking County Chamber of Commerce.  Come\, be informed\, and connect!
X-ALT-DESC;FMTTYPE=text/html:Our March Membership Meeting and Luncheon will feature a presentation by Park National Bank&#39\;s own Brad Zellar.&nbsp\; Brad is Vice President and Portfolio Manager at PNB&#39\;s downtown office and he will provide timely observations regarding current economic and financial market conditions.&nbsp\; Because of the wide interest in this topic\, and our downtown venue\, we are also opening up this Meeting and Luncheon to members of the Licking County Chamber of Commerce.&nbsp\; Come\, be informed\, and connect!&nbsp\;&nbsp\;
LOCATION:DoubleTree by Hilton 50 North 2nd Street Newark\, OH 43055
UID:e.180.12539
SEQUENCE:3
DTSTAMP:20260420T035725Z
URL:http://business.granvilleoh.com/events/details/monthly-membership-meeting-luncheon-12539
END:VEVENT

END:VCALENDAR
