BEGIN:VCALENDAR
VERSION:2.0
PRODID:-//ChamberMaster//Event Calendar 2.0//EN
METHOD:PUBLISH
X-PUBLISHED-TTL:P3D
REFRESH-INTERVAL:P3D
CALSCALE:GREGORIAN
BEGIN:VEVENT
DTSTART:20190515T153000Z
DTEND:20190515T170000Z
X-MICROSOFT-CDO-ALLDAYEVENT:FALSE
SUMMARY:Monthly Membership Meeting & Luncheon
DESCRIPTION:Are real human relationships an outdated\, old-fashioned idea in today's technology-driven marketing world? Clicksand author Bill Troy will explain how human connections are more important than ever and get the recipe for building and nurturing them with a consistent\, predictable business process at our May Membership Meeting and Luncheon.
X-ALT-DESC;FMTTYPE=text/html:<span style="color: rgb(51\, 51\, 51)\; font-size: 13px\; font-family: arial\;">Are real human relationships an outdated\, old-fashioned idea in today&rsquo\;s technology-driven marketing world?&nbsp\;</span><span style="color: rgb(51\, 51\, 51)\; font-family: sans-serif\, Arial\, Verdana\, &quot\;Trebuchet MS&quot\;\; font-size: 13px\; background-color: rgb(255\, 255\, 255)\;">Clicksand author Bill Troy will explain</span><span style="color: rgb(51\, 51\, 51)\; font-size: 13px\; font-family: arial\;">&nbsp\;how human connections are more important than ever&mdash\;and get the recipe for building and nurturing them with a consistent\, predictable business process at our May Membership Meeting and Luncheon.</span>
LOCATION:Kendal at Granville 2158 Columbus Rd Granville\, OH 43023
UID:e.180.12618
SEQUENCE:3
DTSTAMP:20260420T064950Z
URL:http://business.granvilleoh.com/events/details/monthly-membership-meeting-luncheon-12618
END:VEVENT

END:VCALENDAR
