BEGIN:VCALENDAR
VERSION:2.0
PRODID:-//ChamberMaster//Event Calendar 2.0//EN
METHOD:PUBLISH
X-PUBLISHED-TTL:P3D
REFRESH-INTERVAL:P3D
CALSCALE:GREGORIAN
BEGIN:VEVENT
DTSTART:20190720T180000Z
DTEND:20190720T200000Z
X-MICROSOFT-CDO-ALLDAYEVENT:FALSE
SUMMARY:Moon Landing 50th Anniversary Celebration
DESCRIPTION:In July 1969\, the world celebrated together as humans stepped on the moon for the first time. Come together at the library to help us commemorate the year this historic event took place by sharing an artifact\, photograph\, written memory from someone alive at the time\, book\, or article relating to 1969 or to the Apollo 11 mission. Everyone who contributes to our temporary museum will be entered in a raffle to win a prize. Items must be retrieved by Saturday\, August 3. Families (Drop off items beginning Monday\, July 8 or bring them the day of the event by 1pm)
X-ALT-DESC;FMTTYPE=text/html:In July 1969\, the world celebrated together as humans stepped on the moon for the first time. Come together at the library to help us commemorate the year this historic event took place by sharing an artifact\, photograph\, written memory from someone alive at the time\, book\, or article relating to 1969 or to the Apollo 11 mission. Everyone who contributes to our temporary museum will be entered in a raffle to win a prize. Items must be retrieved by Saturday\, August 3. Families (Drop off items beginning Monday\, July 8 or bring them the day of the event by 1pm)
LOCATION:Granville Public Library
UID:e.180.12731
SEQUENCE:3
DTSTAMP:20260422T085157Z
URL:http://business.granvilleoh.com/events/details/moon-landing-50th-anniversary-celebration-12731
END:VEVENT

END:VCALENDAR
