BEGIN:VCALENDAR
VERSION:2.0
PRODID:-//ChamberMaster//Event Calendar 2.0//EN
METHOD:PUBLISH
X-PUBLISHED-TTL:P3D
REFRESH-INTERVAL:P3D
CALSCALE:GREGORIAN
BEGIN:VEVENT
DTSTART:20190716T210000Z
DTEND:20190716T230000Z
X-MICROSOFT-CDO-ALLDAYEVENT:FALSE
SUMMARY:Multimedia Class: Photos and Photoshop
DESCRIPTION:Learn how to fix common photo problems with Photoshop. Teens and adults are welcome to register online at granvillelibrary.org/calendar or by calling 740-587-0196 ext 110.
X-ALT-DESC;FMTTYPE=text/html:Learn how to fix common photo problems with Photoshop. Teens and adults are welcome to register online at granvillelibrary.org/calendar or by calling 740-587-0196 ext 110.
LOCATION:Granville Public Library
UID:e.180.12723
SEQUENCE:3
DTSTAMP:20260422T085159Z
URL:http://business.granvilleoh.com/events/details/multimedia-class-photos-and-photoshop-12723
END:VEVENT

END:VCALENDAR
