BEGIN:VCALENDAR
VERSION:2.0
PRODID:-//ChamberMaster//Event Calendar 2.0//EN
METHOD:PUBLISH
X-PUBLISHED-TTL:P3D
REFRESH-INTERVAL:P3D
CALSCALE:GREGORIAN
BEGIN:VEVENT
DTSTART:20190326T210000Z
DTEND:20190326T230000Z
X-MICROSOFT-CDO-ALLDAYEVENT:FALSE
SUMMARY:Multimedia Class: Photoshop 101
DESCRIPTION:Learn the basics of Photoshop using the library's Mac computers. Teens and adults are welcome to register for this small\, two-person class. Register through the event listing on the calendar page of our website.
X-ALT-DESC;FMTTYPE=text/html:Learn the basics of Photoshop using the library&#39\;s Mac computers. Teens and adults are welcome to register for this small\, two-person class. Register through the event listing on the calendar page of our website.
LOCATION:Granville Public Library
UID:e.180.12511
SEQUENCE:3
DTSTAMP:20260420T034059Z
URL:http://business.granvilleoh.com/events/details/multimedia-class-photoshop-101-12511
END:VEVENT

END:VCALENDAR
