BEGIN:VCALENDAR
VERSION:2.0
PRODID:-//ChamberMaster//Event Calendar 2.0//EN
METHOD:PUBLISH
X-PUBLISHED-TTL:P3D
REFRESH-INTERVAL:P3D
CALSCALE:GREGORIAN
BEGIN:VEVENT
DTSTART:20180712T230000Z
DTEND:20180713T003000Z
X-MICROSOFT-CDO-ALLDAYEVENT:FALSE
SUMMARY:Music to the Mind
DESCRIPTION:In this session\, Dr. Nestor Matthews (Denison University Psychology / Neuroscience) will summarize research connecting music to Psychology. Topics will include music's role in infant social development\, second-language acquisition\, cognition\, personality\, and mental health. The session will feature recent psychological research conducted with "The Bluecoats" - a world champion drum corps that has rehearsed right here in Granville. All are welcome.
X-ALT-DESC;FMTTYPE=text/html:In this session\, Dr. Nestor Matthews (Denison University Psychology / Neuroscience) will summarize research connecting music to Psychology. Topics will include music&#39\;s role in infant social development\, second-language acquisition\, cognition\, personality\, and mental health. The session will feature recent psychological research conducted with &quot\;The Bluecoats&quot\; - a world champion drum corps that has rehearsed right here in Granville. All are welcome.
LOCATION:Granville Public Library
UID:e.180.12048
SEQUENCE:3
DTSTAMP:20260419T171032Z
URL:http://business.granvilleoh.com/events/details/music-to-the-mind-12048
END:VEVENT

END:VCALENDAR
