BEGIN:VCALENDAR
VERSION:2.0
PRODID:-//ChamberMaster//Event Calendar 2.0//EN
METHOD:PUBLISH
X-PUBLISHED-TTL:P3D
REFRESH-INTERVAL:P3D
CALSCALE:GREGORIAN
BEGIN:VEVENT
DTSTART:20191113T000000Z
DTEND:20191113T020000Z
X-MICROSOFT-CDO-ALLDAYEVENT:FALSE
SUMMARY:Naturalist Julie Zickefoose shares stories behind her new book
DESCRIPTION:Naturalist Julie Zickefoose will present a reading from and a discussion of her most recent book\, "Saving Jemima: Life and Love With a Hard-luck Jay"\, an intimate story of how an orphaned bird can save a soul\, as part of the Licking Land Trust annual speaker series\, in celebration of the trust's 30th Anniversary. A book signing and reception immediately following the event. \nZickefoose is a naturalist\, artist and writer who thinks of herself as an unsung\, minor\, rather dirty superhero. Her superpower: saving small\, economically worthless wildlife that would otherwise die. An orphaned jay named Jemima was one such foundling. Spending nearly a year healing\, studying and raising the young blue jay for release opened the door to their world for Zickefoose. She began writing and illustrating "Saving Jemima: Life and Love With a Hard-luck Jay" immediately upon becoming her foster mother. More than a wildlife rehab story\, it's the story of life\, love and dealing with great loss\; of finding grace and redemption in bonding with a wild bird.\n\nZickefoose lives and works quietly on an 80-acre wildlife sanctuary in the back country of Whipple\, Ohio. She is a prolific writer and painter and Contributing Editor to Bird Watcher's Digest. "Natural Gardening for Birds\," "Letters from Eden\," "The Bluebird Effect\," and "Baby Birds: An Artist Looks Into the Nest" are joined by "Saving Jemima: Life and Love With a Hard-Luck Jay\," the intimate story of how an orphaned bird can save a soul.
X-ALT-DESC;FMTTYPE=text/html:<span style="background-color:transparent\; color:rgb(0\, 0\, 0)\; font-family:arial\; font-size:11pt">Naturalist Julie Zickefoose will present a reading from and a discussion of her most recent book\, &quot\;Saving Jemima: Life and Love With a Hard-luck Jay&quot\;\, an intimate story of how an orphaned bird can save a soul\, as part of the Licking Land Trust annual speaker series\, in celebration of the trust&rsquo\;s 30th&nbsp\;Anniversary. A book signing and reception immediately following the event.&nbsp\;</span>\n<p><span style="background-color:transparent\; color:rgb(0\, 0\, 0)\; font-family:arial\; font-size:11pt">Zickefoose is a naturalist\, artist and writer who thinks of herself as an unsung\, minor\, rather dirty superhero. Her superpower: saving small\, economically worthless wildlife that would otherwise die. An orphaned jay named Jemima was one such foundling. Spending nearly a year healing\, studying and raising the young blue jay for release opened the door to their world for Zickefoose. She began writing and illustrating &quot\;Saving Jemima: Life and Love With a Hard-luck Jay&quot\; immediately upon becoming her foster mother. More than a wildlife rehab story\, it&rsquo\;s the story of life\, love and dealing with great loss\; of finding grace and redemption in bonding with a wild bird.</span></p>\n\n<p><span style="background-color:transparent\; color:rgb(0\, 0\, 0)\; font-family:arial\; font-size:11pt">Zickefoose lives and works quietly on an 80-acre wildlife sanctuary in the back country of Whipple\, Ohio. She is a prolific writer and painter and Contributing Editor to Bird Watcher&rsquo\;s Digest. &quot\;Natural Gardening for Birds\,&quot\; &quot\;Letters from Eden\,&quot\; &quot\;The Bluebird Effect\,&quot\; and &quot\;Baby Birds: An Artist Looks Into the Nest&quot\; are joined by &quot\;Saving Jemima: Life and Love With a Hard-Luck Jay\,&quot\; the intimate story of how an orphaned bird can save a soul.</span></p>\n<br />\n&nbsp\;
LOCATION:Denison University Auditorium of Slayter Hall 200 Ridge Road
UID:e.180.12907
SEQUENCE:3
DTSTAMP:20260422T144823Z
URL:http://business.granvilleoh.com/events/details/naturalist-julie-zickefoose-shares-stories-behind-her-new-book-12907
END:VEVENT

END:VCALENDAR
