BEGIN:VCALENDAR
VERSION:2.0
PRODID:-//ChamberMaster//Event Calendar 2.0//EN
METHOD:PUBLISH
X-PUBLISHED-TTL:P3D
REFRESH-INTERVAL:P3D
CALSCALE:GREGORIAN
BEGIN:VEVENT
DTSTART:20191228T200000Z
DTEND:20191228T220000Z
X-MICROSOFT-CDO-ALLDAYEVENT:FALSE
SUMMARY:New Year's Tinkercad for Teens and Tweens
DESCRIPTION:Get ready for the New Year with your own 3D print creation. Register at granvillelibrary.org/calendar. Grades 4-12.
X-ALT-DESC;FMTTYPE=text/html:Get ready for the New Year with your own 3D print creation. Register at granvillelibrary.org/calendar. Grades 4-12.
LOCATION:Granville Public Library
UID:e.180.13990
SEQUENCE:3
DTSTAMP:20260422T161146Z
URL:http://business.granvilleoh.com/events/details/new-year-s-tinkercad-for-teens-and-tweens-13990
END:VEVENT

END:VCALENDAR
