BEGIN:VCALENDAR
VERSION:2.0
PRODID:-//ChamberMaster//Event Calendar 2.0//EN
METHOD:PUBLISH
X-PUBLISHED-TTL:P3D
REFRESH-INTERVAL:P3D
CALSCALE:GREGORIAN
BEGIN:VEVENT
DTSTART:20191205T220000Z
DTEND:20191206T000000Z
X-MICROSOFT-CDO-ALLDAYEVENT:FALSE
SUMMARY:Newark Ohio Pride Coalition Mixer
DESCRIPTION:The Office of Gender and Sexuality and the Denison Museum present a mixer with the Newark Ohio Pride Coalition at the Denison Museum. The event will include light refreshments and a tour of the Eisner Center.
X-ALT-DESC;FMTTYPE=text/html:<span style="color:rgb(0\, 0\, 0)\; font-family:arial\; font-size:14.6667px">The Office of Gender and Sexuality and the Denison Museum present a mixer with the Newark Ohio Pride Coalition at the Denison Museum. The event will include light refreshments and a tour of the Eisner Center.</span>
LOCATION:Denison University Denison Museum in the Michael D. Eisner Center for the Performing Arts 240 West Broadway
UID:e.180.13973
SEQUENCE:3
DTSTAMP:20260422T160738Z
URL:http://business.granvilleoh.com/events/details/newark-ohio-pride-coalition-mixer-13973
END:VEVENT

END:VCALENDAR
