BEGIN:VCALENDAR
VERSION:2.0
PRODID:-//ChamberMaster//Event Calendar 2.0//EN
METHOD:PUBLISH
X-PUBLISHED-TTL:P3D
REFRESH-INTERVAL:P3D
CALSCALE:GREGORIAN
BEGIN:VEVENT
DTSTART:20191016T153000Z
DTEND:20191016T170000Z
X-MICROSOFT-CDO-ALLDAYEVENT:FALSE
SUMMARY:October Member Meeting & Luncheon
DESCRIPTION:It's now October and we are fast approaching the time of year when many of you are facing decisions relating to Health Insurance Open Enrollment and health insurance coverage for the coming year.  Our luncheon program will feature a panel of health insurance experts who will provide guidance and education on this critical topic.  Join us for a tasty Moe's Bar B Que meal along with timely and informative education!
X-ALT-DESC;FMTTYPE=text/html:It&#39\;s now October and we are fast approaching the time of year when many of you are facing decisions relating to Health Insurance Open Enrollment and health insurance coverage for the coming year.&nbsp\; Our luncheon program will feature a panel of health insurance experts who will provide guidance and education on this critical topic.&nbsp\; Join us for a tasty Moe&#39\;s Bar B Que meal along with timely and informative education!
LOCATION:New Hope Lutheran Church 309 W. Broadway (corner of Broadway and Cherry Street) Granville\, OH 43023
UID:e.180.12912
SEQUENCE:3
DTSTAMP:20260422T131550Z
URL:http://business.granvilleoh.com/events/details/october-member-meeting-luncheon-12912
END:VEVENT

END:VCALENDAR
