BEGIN:VCALENDAR
VERSION:2.0
PRODID:-//ChamberMaster//Event Calendar 2.0//EN
METHOD:PUBLISH
X-PUBLISHED-TTL:P3D
REFRESH-INTERVAL:P3D
CALSCALE:GREGORIAN
BEGIN:VEVENT
DTSTART:20190920T200000Z
DTEND:20190922T160000Z
X-MICROSOFT-CDO-ALLDAYEVENT:FALSE
SUMMARY:Ohiolina Music Festival
DESCRIPTION:Ohiolina Music Festival is a family-friendly celebration of the music and culture rooted in the I-77 corridor. Exhibiting a deep love of Ohio\, North Carolina and all ground in between\, Ohiolina showcases the music and cultural traditions of the region. Enjoy live music\, camping\, kayaking\, hiking and food trucks. Get all the details\, including the full weekend lineup\, at Ohiolina.com.
X-ALT-DESC;FMTTYPE=text/html:Ohiolina Music Festival is a family-friendly celebration of the music and culture rooted in the I-77 corridor. Exhibiting a deep love of Ohio\, North Carolina and all ground in between\, Ohiolina showcases the music and cultural traditions of the region. Enjoy live music\, camping\, kayaking\, hiking and food trucks. Get all the details\, including the full weekend lineup\, at Ohiolina.com.
LOCATION:Infirmary Mound Park 4309 Lancaster Road Granville\, Ohio 43023
UID:e.180.12840
SEQUENCE:3
DTSTAMP:20260422T115913Z
URL:http://business.granvilleoh.com/events/details/ohiolina-music-festival-12840
END:VEVENT

END:VCALENDAR
