BEGIN:VCALENDAR
VERSION:2.0
PRODID:-//ChamberMaster//Event Calendar 2.0//EN
METHOD:PUBLISH
X-PUBLISHED-TTL:P3D
REFRESH-INTERVAL:P3D
CALSCALE:GREGORIAN
BEGIN:VEVENT
DTSTART:20190123T173000Z
DTEND:20190123T183000Z
X-MICROSOFT-CDO-ALLDAYEVENT:FALSE
SUMMARY:Old School B-School
DESCRIPTION:Join us at the Creative COOP \, 115 W. Broadway\, to discuss "The Little Book of Hygge: Danish Secrets of Happy Living' by Meik Wiking. Copies are available at the library's main desk.
X-ALT-DESC;FMTTYPE=text/html:Join us at the Creative COOP \, 115 W. Broadway\, to discuss &quot\;The Little Book of Hygge: Danish Secrets of Happy Living&#39\; by Meik Wiking. Copies are available at the library&#39\;s main desk.
LOCATION:Creative COOP\, 115 W. Broadway. Copies available at Granville Public Library
UID:e.180.12296
SEQUENCE:3
DTSTAMP:20260420T022629Z
URL:http://business.granvilleoh.com/events/details/old-school-b-school-12296
END:VEVENT

END:VCALENDAR
