BEGIN:VCALENDAR
VERSION:2.0
PRODID:-//ChamberMaster//Event Calendar 2.0//EN
METHOD:PUBLISH
X-PUBLISHED-TTL:P3D
REFRESH-INTERVAL:P3D
CALSCALE:GREGORIAN
BEGIN:VEVENT
DTSTART:20190227T173000Z
DTEND:20190227T183000Z
X-MICROSOFT-CDO-ALLDAYEVENT:FALSE
SUMMARY:Old School B-School Book Club
DESCRIPTION:Join us at the Creative COOP\, 115 W Broadway. to discuss "When: Scientific Secrets of Perfect Timing" by Daniel Pink. Bring your lunch and join us for this "old school' business school book discussion. Copies are available at the library's main desk.
X-ALT-DESC;FMTTYPE=text/html:Join us at the Creative COOP\, 115 W Broadway. to discuss &quot\;When: Scientific Secrets of Perfect Timing&quot\; by Daniel Pink. Bring your lunch and join us for this &quot\;old school&#39\; business school book discussion. Copies are available at the library&#39\;s main desk.
LOCATION:Creative COOP
UID:e.180.12436
SEQUENCE:3
DTSTAMP:20260420T022852Z
URL:http://business.granvilleoh.com/events/details/old-school-b-school-book-club-02-27-2019-12436
END:VEVENT

END:VCALENDAR
