BEGIN:VCALENDAR
VERSION:2.0
PRODID:-//ChamberMaster//Event Calendar 2.0//EN
METHOD:PUBLISH
X-PUBLISHED-TTL:P3D
REFRESH-INTERVAL:P3D
CALSCALE:GREGORIAN
BEGIN:VEVENT
DTSTART:20180725T163000Z
DTEND:20180725T173000Z
X-MICROSOFT-CDO-ALLDAYEVENT:FALSE
SUMMARY:Old School B-School Book Club
DESCRIPTION:Bring your lunch and join us for this "old school" business school book discussion. In July\, we'll read "Think and Grow Rich" by Napolean Hill. Meet at the Creative COOP\, 115 W. Broadway
X-ALT-DESC;FMTTYPE=text/html:Bring your lunch and join us for this &quot\;old school&quot\; business school book discussion. In July\, we&#39\;ll read &quot\;Think and Grow Rich&quot\; by Napolean Hill. Meet at the Creative COOP\, 115 W. Broadway
LOCATION:Creative COOP\, 115 W. Broadway
UID:e.180.12068
SEQUENCE:3
DTSTAMP:20260419T171155Z
URL:http://business.granvilleoh.com/events/details/old-school-b-school-book-club-07-25-2018-12068
END:VEVENT

END:VCALENDAR
