BEGIN:VCALENDAR
VERSION:2.0
PRODID:-//ChamberMaster//Event Calendar 2.0//EN
METHOD:PUBLISH
X-PUBLISHED-TTL:P3D
REFRESH-INTERVAL:P3D
CALSCALE:GREGORIAN
BEGIN:VEVENT
DTSTART:20180926T163000Z
DTEND:20180926T173000Z
X-MICROSOFT-CDO-ALLDAYEVENT:FALSE
SUMMARY:Old School B-School Book Club
DESCRIPTION:Join us for the latest edition of the "Old School B-School" Book Club! The fourth Wednesday of each month\, readers will gather for a brown bag book discussion of a classic business title. Our sixth discussion will be about Susan Cain's "Quiet: The Power of Introverts in a World that Can't Stop Talking". Pick up a copy of the book at the Granville Public Library and come to the creative coop on the 26th ready to talk about this classic tome! Location: Creative COOP\, 115 W. Broadway
X-ALT-DESC;FMTTYPE=text/html:Join us for the latest edition of the &quot\;Old School B-School&quot\; Book Club! The fourth Wednesday of each month\, readers will gather for a brown bag book discussion of a classic business title. Our sixth discussion will be about Susan Cain&#39\;s &quot\;Quiet: The Power of Introverts in a World that Can&#39\;t Stop Talking&quot\;. Pick up a copy of the book at the Granville Public Library and come to the creative coop on the 26th ready to talk about this classic tome! Location: Creative COOP\, 115 W. Broadway
LOCATION:Creative COOP 115 W. Broadway
UID:e.180.12115
SEQUENCE:3
DTSTAMP:20260419T193642Z
URL:http://business.granvilleoh.com/events/details/old-school-b-school-book-club-09-26-2018-12115
END:VEVENT

END:VCALENDAR
