BEGIN:VCALENDAR
VERSION:2.0
PRODID:-//ChamberMaster//Event Calendar 2.0//EN
METHOD:PUBLISH
X-PUBLISHED-TTL:P3D
REFRESH-INTERVAL:P3D
CALSCALE:GREGORIAN
BEGIN:VEVENT
DTSTART:20181024T163000Z
DTEND:20181024T173000Z
X-MICROSOFT-CDO-ALLDAYEVENT:FALSE
SUMMARY:Old School B-School Book Club
DESCRIPTION:Join us for the latest edition of the "Old School B-School" Book Club! The fourth Wednesday of each month\, readers will gather for a brown bag book discussion of a classic business title. Our October discussion will be about Irin Carmon's and Shana Knizhnik's best selling "The Notorious RBG: The Life and Times of Ruth Bader Ginsburg." Pick up a copy of the book at the Granville Public Library and come to the Creative Coop on the 24nd ready to talk about this biography! Location: Creative COOP\, 115 W. Broadway
X-ALT-DESC;FMTTYPE=text/html:Join us for the latest edition of the &quot\;Old School B-School&quot\; Book Club! The fourth Wednesday of each month\, readers will gather for a brown bag book discussion of a classic business title. Our October discussion will be about Irin Carmon&#39\;s and Shana Knizhnik&#39\;s best selling &quot\;The Notorious RBG: The Life and Times of Ruth Bader Ginsburg.&quot\; Pick up a copy of the book at the Granville Public Library and come to the Creative Coop on the 24nd ready to talk about this biography! Location: Creative COOP\, 115 W. Broadway
LOCATION:Creative COOP\, 115 W. Broadway
UID:e.180.12139
SEQUENCE:3
DTSTAMP:20260419T211051Z
URL:http://business.granvilleoh.com/events/details/old-school-b-school-book-club-10-24-2018-12139
END:VEVENT

END:VCALENDAR
