BEGIN:VCALENDAR
VERSION:2.0
PRODID:-//ChamberMaster//Event Calendar 2.0//EN
METHOD:PUBLISH
X-PUBLISHED-TTL:P3D
REFRESH-INTERVAL:P3D
CALSCALE:GREGORIAN
BEGIN:VEVENT
DTSTART:20181128T173000Z
DTEND:20181128T183000Z
X-MICROSOFT-CDO-ALLDAYEVENT:FALSE
SUMMARY:Old School B-School Book Club
DESCRIPTION:Join us for the latest edition of the "Old School B-School" Book Club! On the fourth Wednesday of each month\, readers will gather for a brown bag book discussion of a classic business title. Our November discussion will be about Tiffany Dufu's "Drop the Ball: Achieving More by Doing Less." Pick up a copy of the book at the Granville Public Library and come to the Creative Coop on the 28th ready to discuss! Location: Creative COOP\, 115 W. Broadway
X-ALT-DESC;FMTTYPE=text/html:Join us for the latest edition of the &quot\;Old School B-School&quot\; Book Club! On the fourth Wednesday of each month\, readers will gather for a brown bag book discussion of a classic business title. Our November discussion will be about Tiffany Dufu&#39\;s &quot\;Drop the Ball: Achieving More by Doing Less.&quot\; Pick up a copy of the book at the Granville Public Library and come to the Creative Coop on the 28th ready to discuss! Location: Creative COOP\, 115 W. Broadway
LOCATION:Creative COOP
UID:e.180.12233
SEQUENCE:3
DTSTAMP:20260419T222908Z
URL:http://business.granvilleoh.com/events/details/old-school-b-school-book-club-11-28-2018-12233
END:VEVENT

END:VCALENDAR
