BEGIN:VCALENDAR
VERSION:2.0
PRODID:-//ChamberMaster//Event Calendar 2.0//EN
METHOD:PUBLISH
X-PUBLISHED-TTL:P3D
REFRESH-INTERVAL:P3D
CALSCALE:GREGORIAN
BEGIN:VEVENT
DTSTART:20180523T163000Z
DTEND:20180523T173000Z
X-MICROSOFT-CDO-ALLDAYEVENT:FALSE
SUMMARY:Old School B-School Book Club
DESCRIPTION:Join us for the second edition of the "Old School B-School" Book Club! The fourth Wednesday of each month\, readers will gather for a brown bag book discussion of a classic business title. Our second discussion will be about Stephen Covey's best selling "The 7 Habits of Highly Effective People." Pick up a copy of the book at the Granville Public Library and come to the creative coop on the 23rd ready to talk about this classic tome!
X-ALT-DESC;FMTTYPE=text/html:Join us for the second edition of the &quot\;Old School B-School&quot\; Book Club! The fourth Wednesday of each month\, readers will gather for a brown bag book discussion of a classic business title. Our second discussion will be about Stephen Covey&#39\;s best selling &quot\;The 7 Habits of Highly Effective People.&quot\; Pick up a copy of the book at the Granville Public Library and come to the creative coop on the 23rd ready to talk about this classic tome!
LOCATION:Creative Co-op 119 W Broadway
UID:e.180.11992
SEQUENCE:3
DTSTAMP:20260421T100727Z
URL:http://business.granvilleoh.com/events/details/old-school-b-school-book-club-11992
END:VEVENT

END:VCALENDAR
