BEGIN:VCALENDAR
VERSION:2.0
PRODID:-//ChamberMaster//Event Calendar 2.0//EN
METHOD:PUBLISH
X-PUBLISHED-TTL:P3D
REFRESH-INTERVAL:P3D
CALSCALE:GREGORIAN
BEGIN:VEVENT
DTSTART:20190407T170000Z
DTEND:20190407T190000Z
X-MICROSOFT-CDO-ALLDAYEVENT:FALSE
SUMMARY:One Book\, One Community of Licking County
DESCRIPTION:Kick off National Library Week and join One Book One Community\, a free community book club\, in reading "A Well-Behaved Woman" by Therese Fowler. Join Therese Fowler for a book discussion and book signing on April 7. Free copies of "A Well-Behaved Woman" are available to the first 100 registrants. Register at any public library in Licking County. Hosted by the Ohio State University at Newark and COTC. Made possible through the Russell G. and Melissa Warner Bow endowed fund.
X-ALT-DESC;FMTTYPE=text/html:Kick off National Library Week and join One Book One Community\, a free community book club\, in reading &quot\;A Well-Behaved Woman&quot\; by Therese Fowler. Join Therese Fowler for a book discussion and book signing on April 7. Free copies of &quot\;A Well-Behaved Woman&quot\; are available to the first 100 registrants. Register at any public library in Licking County. Hosted by the Ohio State University at Newark and COTC. Made possible through the Russell G. and Melissa Warner Bow endowed fund.
LOCATION:John L. and Christine Warner Library & Student Center 1219 University Dr.\, Newark
UID:e.180.12546
SEQUENCE:3
DTSTAMP:20260420T050944Z
URL:http://business.granvilleoh.com/events/details/one-book-one-community-of-licking-county-12546
END:VEVENT

END:VCALENDAR
