BEGIN:VCALENDAR
VERSION:2.0
PRODID:-//ChamberMaster//Event Calendar 2.0//EN
METHOD:PUBLISH
X-PUBLISHED-TTL:P3D
REFRESH-INTERVAL:P3D
CALSCALE:GREGORIAN
BEGIN:VEVENT
DTSTART:20180816T150000Z
DTEND:20180816T230000Z
X-MICROSOFT-CDO-ALLDAYEVENT:FALSE
SUMMARY:Open House and Ribbon Cutting at the Granville Investment Group
DESCRIPTION:The Granville Investment Group cordially invites you to come to an informal Open House to celebrate the next chapter of their practice at their new downtown Granville office location!  You are encouraged to attend a brief ceremonial ribbon cutting (with dignitaries!) which will occur at 5:00 pm but you are welcome to stop by at any time during the Open House event.
X-ALT-DESC;FMTTYPE=text/html:The Granville Investment Group cordially invites you to come to an informal Open House to celebrate the next chapter of their practice at their new downtown Granville office location!&nbsp\; You are encouraged to attend a brief ceremonial ribbon cutting (with dignitaries!) which will occur at 5:00 pm but you are welcome to stop by at any time during the Open House event.
LOCATION:124 South Pearl Street Granville\, OH 43023
UID:e.180.12098
SEQUENCE:3
DTSTAMP:20260419T183046Z
URL:http://business.granvilleoh.com/events/details/open-house-and-ribbon-cutting-at-the-granville-investment-group-12098
END:VEVENT

END:VCALENDAR
