BEGIN:VCALENDAR
VERSION:2.0
PRODID:-//ChamberMaster//Event Calendar 2.0//EN
METHOD:PUBLISH
X-PUBLISHED-TTL:P3D
REFRESH-INTERVAL:P3D
CALSCALE:GREGORIAN
BEGIN:VEVENT
DTSTART:20191114T213000Z
DTEND:20191115T000000Z
X-MICROSOFT-CDO-ALLDAYEVENT:FALSE
SUMMARY:Open House & Ribbon Cutting at Athletico Physical Therapy
DESCRIPTION:Come help us celebrate our New Location and the growth of our clinic.  There will be food\, drinks\, tours and a raffle!  We will celebrate our success with a Ribbon Cutting ceremony at 5:00 pm!
X-ALT-DESC;FMTTYPE=text/html:Come help us celebrate our New Location and the growth of our clinic.&nbsp\; There will be food\, drinks\, tours and a raffle!&nbsp\; We will celebrate our success with a Ribbon Cutting ceremony at 5:00 pm!
LOCATION:1505 Granville Road Newark\, OH 43055
UID:e.180.13991
SEQUENCE:3
DTSTAMP:20260422T144220Z
URL:http://business.granvilleoh.com/events/details/open-house-ribbon-cutting-at-athletico-physical-therapy-13991
END:VEVENT

END:VCALENDAR
