BEGIN:VCALENDAR
VERSION:2.0
PRODID:-//ChamberMaster//Event Calendar 2.0//EN
METHOD:PUBLISH
X-PUBLISHED-TTL:P3D
REFRESH-INTERVAL:P3D
CALSCALE:GREGORIAN
BEGIN:VEVENT
DTSTART:20190330T230000Z
DTEND:20190331T010000Z
X-MICROSOFT-CDO-ALLDAYEVENT:FALSE
SUMMARY:Open Talent Night at the Hullabaloo
DESCRIPTION:Come on out and play . Show us your talent. All ages welcome! Professional sound and lights! Sign ups at 6:45pm. Bring two friends and perform for free. $5 to watch. Lots of fun! Gifts awarded and audience votes for the best of the night so bring lots of friends! All kinds of talent welcome - instrumentalists\, storytellers\, magicians\, singers\, dancers...
X-ALT-DESC;FMTTYPE=text/html:Come on out and play . Show us your talent. All ages welcome! Professional sound and lights! Sign ups at 6:45pm. Bring two friends and perform for free. $5 to watch. Lots of fun! Gifts awarded and audience votes for the best of the night so bring lots of friends! All kinds of talent welcome - instrumentalists\, storytellers\, magicians\, singers\, dancers...
LOCATION:Hullabaloo Performing Arts Theatre in the Indian Mound Mall\, Heath
UID:e.180.12553
SEQUENCE:3
DTSTAMP:20260420T050652Z
URL:http://business.granvilleoh.com/events/details/open-talent-night-at-the-hullabaloo-12553
END:VEVENT

END:VCALENDAR
