BEGIN:VCALENDAR
VERSION:2.0
PRODID:-//ChamberMaster//Event Calendar 2.0//EN
METHOD:PUBLISH
X-PUBLISHED-TTL:P3D
REFRESH-INTERVAL:P3D
CALSCALE:GREGORIAN
BEGIN:VEVENT
DTSTART:20190201T220000Z
DTEND:20190202T000000Z
X-MICROSOFT-CDO-ALLDAYEVENT:FALSE
SUMMARY:Opening Reception: ‘A Portrait Retrospective’ by painter Susan Moore
DESCRIPTION:Denison Art Space in Newark holds an opening reception for "A Portrait Retrospective\," by painter Susan Moore\, professor and chair of Painting at Tyler School of Art of Temple University.\nThis exhibition is the first major retrospective of Moore's portraits\, including artworks from 1980 to the present. Primarily images of women\, the works demonstrate a variety of approaches to paintings and drawings\, as well as photographic collages. The more than 30 pieces in the show reveal Moore's tenacious use of diverse mediums and stylistic choices. Whether depicting herself\, friends\, family or still frame images from fashion or film\, Moore imbues the subjects of her paintings with poignancy\, mystery and empowerment. In the context of our fast digital instagram/social media culture\, Moore's paintings challenge viewers to contemplate issues of representation\, self and identity at a deeper humanist level.\n\n\n\nMoore's exhibition will be on display at the Denison Art Space in Newark from February 1   March 8.
X-ALT-DESC;FMTTYPE=text/html:<span style="background-color:transparent\; color:rgb(0\, 0\, 0)\; font-family:arial\; font-size:11pt">Denison Art Space in Newark holds an opening reception for &ldquo\;A Portrait Retrospective\,&rdquo\; by painter Susan Moore\, professor and chair of Painting at Tyler School of Art of Temple University.</span>\n<p><span style="background-color:transparent\; color:rgb(0\, 0\, 0)\; font-family:arial\; font-size:11pt">This exhibition is the first major retrospective of Moore&rsquo\;s portraits\, including artworks from 1980 to the present. Primarily images of women\, the works demonstrate a variety of approaches to paintings and drawings\, as well as photographic collages. The more than 30 pieces in the show reveal Moore&rsquo\;s tenacious use of diverse mediums and stylistic choices. Whether depicting herself\, friends\, family or still frame images from fashion or film\, Moore imbues the subjects of her paintings with poignancy\, mystery and empowerment. In the context of our fast digital instagram/social media culture\, Moore&rsquo\;s paintings challenge viewers to contemplate issues of representation\, self and identity at a deeper humanist level.</span><br />\n<br />\n<span style="background-color:transparent\; color:rgb(0\, 0\, 0)\; font-family:arial\; font-size:11pt">Moore&rsquo\;s exhibition will be on display at the Denison Art Space in Newark from February 1 &ndash\; March 8.</span><span style="background-color:transparent\; color:rgb(0\, 0\, 0)\; font-family:arial\; font-size:11pt">&nbsp\; &nbsp\;&nbsp\;</span></p>\n\n<p>&nbsp\;</p>\n\n<div>&nbsp\;</div>\n
LOCATION:Denison Art Space in Newark 23 West Church
UID:e.180.12400
SEQUENCE:3
DTSTAMP:20260420T022607Z
URL:http://business.granvilleoh.com/events/details/opening-reception-a-portrait-retrospective-by-painter-susan-moore-12400
END:VEVENT

END:VCALENDAR
