BEGIN:VCALENDAR
VERSION:2.0
PRODID:-//ChamberMaster//Event Calendar 2.0//EN
METHOD:PUBLISH
X-PUBLISHED-TTL:P3D
REFRESH-INTERVAL:P3D
CALSCALE:GREGORIAN
BEGIN:VEVENT
DTSTART:20190329T220000Z
DTEND:20190330T000000Z
X-MICROSOFT-CDO-ALLDAYEVENT:FALSE
SUMMARY:Opening Reception: Big Queer Art Show
DESCRIPTION:Denison University's Department of Studio Art presents the opening reception for the Big Queer Art Show.\nThe art show will run through the weekend during Bryant Arts Center open hours: 9 a.m. - 6 p.m.Art show: Friday\, March 29 through Sunday\, March 31.
X-ALT-DESC;FMTTYPE=text/html:<span style="color:rgb(0\, 0\, 0)\; font-family:arial\; font-size:14.6667px">Denison University&rsquo\;s Department of Studio Art presents the opening reception for the Big Queer Art Show.</span>\n<p><span style="background-color:transparent\; color:rgb(0\, 0\, 0)\; font-family:arial\; font-size:11pt">The art show will run through the weekend during Bryant Arts Center open hours: 9 a.m. - 6 p.m.</span><span style="background-color:transparent\; color:rgb(0\, 0\, 0)\; font-family:arial\; font-size:11pt">Art show: Friday\, March 29 through Sunday\, March 31.</span></p>\n\n<div>&nbsp\;</div>\n
LOCATION:Denison University Bryant Arts Center 210 West College
UID:e.180.12585
SEQUENCE:3
DTSTAMP:20260420T034904Z
URL:http://business.granvilleoh.com/events/details/opening-reception-big-queer-art-show-12585
END:VEVENT

END:VCALENDAR
