BEGIN:VCALENDAR
VERSION:2.0
PRODID:-//ChamberMaster//Event Calendar 2.0//EN
METHOD:PUBLISH
X-PUBLISHED-TTL:P3D
REFRESH-INTERVAL:P3D
CALSCALE:GREGORIAN
BEGIN:VEVENT
DTSTART:20190802T203000Z
DTEND:20190802T213000Z
X-MICROSOFT-CDO-ALLDAYEVENT:FALSE
SUMMARY:Opening Reception: Kendal Art Exhibit
DESCRIPTION:Denison Art Space in Newark holds an opening reception for a Kendal Art Exhibit.\nThe exhibit will include work from two of Denison's summer artists-in-residence students\, Amanda Modelski and Lexie Dungan\, some of the work they did with the folks at Kendal during their time\, and other pieces by Kendal community members.\n\nKendal Art Exhibit will be on display at the Denison Art Space in Newark from Thursday\, Aug. 1\, through Saturday\, Aug. 3.
X-ALT-DESC;FMTTYPE=text/html:<span style="background-color:transparent\; color:rgb(0\, 0\, 0)\; font-family:arial\; font-size:11pt">Denison Art Space in Newark holds an opening reception for a Kendal Art Exhibit.</span>\n<p><span style="background-color:transparent\; color:rgb(0\, 0\, 0)\; font-family:arial\; font-size:11pt">The exhibit will include work from two of Denison&#39\;s summer artists-in-residence students\, Amanda Modelski and Lexie Dungan\, some of the work they did with the folks at Kendal during their time\, and other pieces by Kendal community members.</span></p>\n\n<p><span style="background-color:transparent\; color:rgb(0\, 0\, 0)\; font-family:arial\; font-size:11pt">Kendal Art Exhibit will be on display at the Denison Art Space in Newark from Thursday\, Aug. 1\, through Saturday\, Aug. 3.</span></p>\n\n<div>&nbsp\;</div>\n
LOCATION:Denison Art Space in Newark 23 West Church Newark\, OH
UID:e.180.12768
SEQUENCE:3
DTSTAMP:20260422T102528Z
URL:http://business.granvilleoh.com/events/details/opening-reception-kendal-art-exhibit-12768
END:VEVENT

END:VCALENDAR
