BEGIN:VCALENDAR
VERSION:2.0
PRODID:-//ChamberMaster//Event Calendar 2.0//EN
METHOD:PUBLISH
X-PUBLISHED-TTL:P3D
REFRESH-INTERVAL:P3D
CALSCALE:GREGORIAN
BEGIN:VEVENT
DTSTART:20190323T220000Z
DTEND:20190324T000000Z
X-MICROSOFT-CDO-ALLDAYEVENT:FALSE
SUMMARY:Opening Reception: 'Ohio Art League's Annual Spring Juried Exhibition 2019'
DESCRIPTION:Denison Art Space in Newark holds an opening reception for "Ohio Art League's Annual Spring Juried Exhibition 2019."\nSince 1910\, OAL's annual juried exhibitions have been the backbone of the organization's artistic programming\, showcasing contemporary work by Ohio artists. \n\nThe Spring 2019 exhibition will be held at the Denison Art Space. The space is a gateway to the arts\, connecting the surrounding communities by providing a collaborative environment centered on culture\, arts\, and creative expression.\n\nFor each exhibition a juror of esteem is invited to recognize work of high artistic merit. Associate Director of the Contemporary Collection at the Columbus Museum of Art Tyler Cann is the juror for the exhibition this spring.  \n\nThe show will be on display at the Denison Art Space in Newark from March 15 - April 16.
X-ALT-DESC;FMTTYPE=text/html:<span style="background-color:transparent\; color:rgb(0\, 0\, 0)\; font-family:arial\; font-size:11pt">Denison Art Space in Newark holds an opening reception for &quot\;Ohio Art League&#39\;s Annual Spring Juried Exhibition 2019.&quot\;</span>\n<p><span style="background-color:transparent\; color:rgb(0\, 0\, 0)\; font-family:arial\; font-size:11pt">Since 1910\, OAL&#39\;s annual juried exhibitions have been the backbone of the organization&#39\;s artistic programming\, showcasing contemporary work by Ohio artists. </span></p>\n\n<p><span style="background-color:transparent\; color:rgb(0\, 0\, 0)\; font-family:arial\; font-size:11pt">The Spring 2019 exhibition will be held at the Denison Art Space. The space is a gateway to the arts\, connecting the surrounding communities by providing a collaborative environment centered on culture\, arts\, and creative expression.</span></p>\n\n<p><span style="background-color:transparent\; color:rgb(0\, 0\, 0)\; font-family:arial\; font-size:11pt">For each exhibition a juror of esteem is invited to recognize work of high artistic merit. Associate Director of the Contemporary Collection at the Columbus Museum of Art Tyler Cann is the juror for the exhibition this spring. &nbsp\;</span></p>\n\n<p><span style="background-color:transparent\; color:rgb(0\, 0\, 0)\; font-family:arial\; font-size:11pt">The show will be on display at the Denison Art Space in Newark from March 15 - April 16.</span></p>\n<br />\n&nbsp\;
LOCATION:Denison Art Space in Newark 23 West Church
UID:e.180.12577
SEQUENCE:3
DTSTAMP:20260420T035257Z
URL:http://business.granvilleoh.com/events/details/opening-reception-ohio-art-league-s-annual-spring-juried-exhibition-2019-12577
END:VEVENT

END:VCALENDAR
