BEGIN:VCALENDAR
VERSION:2.0
PRODID:-//ChamberMaster//Event Calendar 2.0//EN
METHOD:PUBLISH
X-PUBLISHED-TTL:P3D
REFRESH-INTERVAL:P3D
CALSCALE:GREGORIAN
BEGIN:VEVENT
DTSTART:20190926T210000Z
DTEND:20190926T230000Z
X-MICROSOFT-CDO-ALLDAYEVENT:FALSE
SUMMARY:Opening Reception: 'Projeto Entre Serras' (Project in Between Sierras)
DESCRIPTION:Denison Art Space in Newark holds an opening reception for "Projeto Entre Serras" (Project in Between Sierras).\n\n"Projeto Entre Serras" is a collaboration between artists from Portugal\, France\, Spain\, Brazil and Ecuador who have focused artistic production on the landscape and products of the region.\n\nExhibition on display Sept. 26 through Oct. 18
X-ALT-DESC;FMTTYPE=text/html:<p><span style="background-color:transparent\; color:rgb(0\, 0\, 0)\; font-family:arial\; font-size:11pt">Denison Art Space in Newark holds an opening reception for &quot\;Projeto Entre Serras&quot\; (Project in Between Sierras).</span></p>\n\n<p><span style="background-color:transparent\; color:rgb(0\, 0\, 0)\; font-family:arial\; font-size:11pt">&quot\;Projeto Entre Serras&quot\; is a collaboration between artists from Portugal\, France\, Spain\, Brazil and Ecuador who have focused artistic production on the landscape and products of the region.</span></p>\n\n<p><span style="color:rgb(0\, 0\, 0)\; font-family:arial\; font-size:11pt">Exhibition on display Sept. 26 through Oct. 18</span></p>\n
LOCATION:Denison Art Space in Newark 23 West Church St
UID:e.180.12880
SEQUENCE:3
DTSTAMP:20260422T115417Z
URL:http://business.granvilleoh.com/events/details/opening-reception-projeto-entre-serras-project-in-between-sierras-12880
END:VEVENT

END:VCALENDAR
