BEGIN:VCALENDAR
VERSION:2.0
PRODID:-//ChamberMaster//Event Calendar 2.0//EN
METHOD:PUBLISH
X-PUBLISHED-TTL:P3D
REFRESH-INTERVAL:P3D
CALSCALE:GREGORIAN
BEGIN:VEVENT
DTSTART:20190305T213000Z
DTEND:20190305T223000Z
X-MICROSOFT-CDO-ALLDAYEVENT:FALSE
SUMMARY:Opening Reception: Senior Studio Art Minor Exhibition
DESCRIPTION:Denison University presents an opening reception for the Senior Studio Art Minor Exhibition.\n\n\n\nThe exhibit will also be on display at the Mulberry House (202 North Mulberry Street).
X-ALT-DESC;FMTTYPE=text/html:<span style="color:rgb(0\, 0\, 0)\; font-family:arial\; font-size:11pt">Denison University presents an </span><span style="background-color:transparent\; color:rgb(0\, 0\, 0)\; font-family:arial\; font-size:11pt">opening reception for the Senior Studio Art Minor Exhibition.<br />\n<br />\nThe exhibit will also be on display at the Mulberry House (202 North Mulberry Street).</span>
LOCATION:Denison University Bryant Arts Center Gallery 210 West College Street
UID:e.180.12485
SEQUENCE:3
DTSTAMP:20260420T034108Z
URL:http://business.granvilleoh.com/events/details/opening-reception-senior-studio-art-minor-exhibition-12485
END:VEVENT

END:VCALENDAR
