BEGIN:VCALENDAR
VERSION:2.0
PRODID:-//ChamberMaster//Event Calendar 2.0//EN
METHOD:PUBLISH
X-PUBLISHED-TTL:P3D
REFRESH-INTERVAL:P3D
CALSCALE:GREGORIAN
BEGIN:VEVENT
DTSTART:20190308T000000Z
DTEND:20190308T013000Z
X-MICROSOFT-CDO-ALLDAYEVENT:FALSE
SUMMARY:Organizing with the KonMari Method
DESCRIPTION:Presented by certified KonMari Consultant\, Michell Domke From the best selling book\, The Life Changing Magic of Tidying Up by Marie Kondo The KonMari Method is a life changing process of exploring your life through your stuff. It first begins by visualizing your ideal lifestyle\, then examining your belongings one-by-one choosing what to keep and what to discard based on what sparks joy\, and finally organizing and creating new habits. Learn the basics for how to tackle the five KonMari categories in your own home: clothing\, books\, papers\, komono (miscellaneous)\, and sentimental items. Bring your questions and an item of clothing to practice folding (if time allows.) Sponsored by the Friends of the Granville Public Library
X-ALT-DESC;FMTTYPE=text/html:Presented by certified KonMari Consultant\, Michell Domke From the best selling book\, The Life Changing Magic of Tidying Up by Marie Kondo The KonMari Method is a life changing process of exploring your life through your stuff. It first begins by visualizing your ideal lifestyle\, then examining your belongings one-by-one choosing what to keep and what to discard based on what sparks joy\, and finally organizing and creating new habits. Learn the basics for how to tackle the five KonMari categories in your own home: clothing\, books\, papers\, komono (miscellaneous)\, and sentimental items. Bring your questions and an item of clothing to practice folding (if time allows.) Sponsored by the Friends of the Granville Public Library
LOCATION:Granville Public Library
UID:e.180.12502
SEQUENCE:3
DTSTAMP:20260420T034707Z
URL:http://business.granvilleoh.com/events/details/organizing-with-the-konmari-method-12502
END:VEVENT

END:VCALENDAR
