BEGIN:VCALENDAR
VERSION:2.0
PRODID:-//ChamberMaster//Event Calendar 2.0//EN
METHOD:PUBLISH
X-PUBLISHED-TTL:P3D
REFRESH-INTERVAL:P3D
CALSCALE:GREGORIAN
BEGIN:VEVENT
DTSTART:20190221T000000Z
DTEND:20190221T013000Z
X-MICROSOFT-CDO-ALLDAYEVENT:FALSE
SUMMARY:Overlooked Books Book Club
DESCRIPTION:"Lincoln in the Bardo" by George Saunders is this month's title. Pick up your copy at the main desk and join us!
X-ALT-DESC;FMTTYPE=text/html:&quot\;Lincoln in the Bardo&quot\; by George Saunders is this month&#39\;s title. Pick up your copy at the main desk and join us!
LOCATION:Granville Public Library
UID:e.180.12434
SEQUENCE:3
DTSTAMP:20260420T035415Z
URL:http://business.granvilleoh.com/events/details/overlooked-books-book-club-02-20-2019-12434
END:VEVENT

END:VCALENDAR
