BEGIN:VCALENDAR
VERSION:2.0
PRODID:-//ChamberMaster//Event Calendar 2.0//EN
METHOD:PUBLISH
X-PUBLISHED-TTL:P3D
REFRESH-INTERVAL:P3D
CALSCALE:GREGORIAN
BEGIN:VEVENT
DTSTART:20190320T230000Z
DTEND:20190321T003000Z
X-MICROSOFT-CDO-ALLDAYEVENT:FALSE
SUMMARY:Overlooked Books Book Club
DESCRIPTION:Join us to discuss Angie Thomas's award-winning book\, "The Hate U Give". Follow the lead-character Starr Carter as she negotiates two different worlds\, witnesses her best friend being shot\, and has to make a decision about how to handle it.
X-ALT-DESC;FMTTYPE=text/html:Join us to discuss Angie Thomas&#39\;s award-winning book\, &quot\;The Hate U Give&quot\;. Follow the lead-character Starr Carter as she negotiates two different worlds\, witnesses her best friend being shot\, and has to make a decision about how to handle it.
LOCATION:Granville Public Library
UID:e.180.12508
SEQUENCE:3
DTSTAMP:20260420T051106Z
URL:http://business.granvilleoh.com/events/details/overlooked-books-book-club-03-20-2019-12508
END:VEVENT

END:VCALENDAR
