BEGIN:VCALENDAR
VERSION:2.0
PRODID:-//ChamberMaster//Event Calendar 2.0//EN
METHOD:PUBLISH
X-PUBLISHED-TTL:P3D
REFRESH-INTERVAL:P3D
CALSCALE:GREGORIAN
BEGIN:VEVENT
DTSTART:20190417T230000Z
DTEND:20190418T003000Z
X-MICROSOFT-CDO-ALLDAYEVENT:FALSE
SUMMARY:Overlooked Books Book Club
DESCRIPTION:Delve into Greek mythology with Madeline Miller's retelling of the story of "Circe"\, a woman stuck between the worlds of the gods and men. We'll have copies of the Odyssey available as well so you can read the original tale if you'd like.
X-ALT-DESC;FMTTYPE=text/html:Delve into Greek mythology with Madeline Miller&#39\;s retelling of the story of &quot\;Circe&quot\;\, a woman stuck between the worlds of the gods and men. We&#39\;ll have copies of the Odyssey available as well so you can read the original tale if you&#39\;d like.
LOCATION:Granville Public Library
UID:e.180.12558
SEQUENCE:3
DTSTAMP:20260420T051101Z
URL:http://business.granvilleoh.com/events/details/overlooked-books-book-club-04-17-2019-12558
END:VEVENT

END:VCALENDAR
