BEGIN:VCALENDAR
VERSION:2.0
PRODID:-//ChamberMaster//Event Calendar 2.0//EN
METHOD:PUBLISH
X-PUBLISHED-TTL:P3D
REFRESH-INTERVAL:P3D
CALSCALE:GREGORIAN
BEGIN:VEVENT
DTSTART:20190515T230000Z
DTEND:20190516T000000Z
X-MICROSOFT-CDO-ALLDAYEVENT:FALSE
SUMMARY:Overlooked Books Book Club
DESCRIPTION:Join us in reading and discussing "Educated" by Tara Westover\, a memoir of the author's experience being raised by survivalist parents. Learn about her unique upbringing and her pursuit of an education. Copies are available at the main desk beginning April 18.
X-ALT-DESC;FMTTYPE=text/html:Join us in reading and discussing &quot\;Educated&quot\; by Tara Westover\, a memoir of the author&#39\;s experience being raised by survivalist parents. Learn about her unique upbringing and her pursuit of an education. Copies are available at the main desk beginning April 18.
LOCATION:Granville Public Library
UID:e.180.12583
SEQUENCE:3
DTSTAMP:20260420T065421Z
URL:http://business.granvilleoh.com/events/details/overlooked-books-book-club-05-15-2019-12583
END:VEVENT

END:VCALENDAR
