BEGIN:VCALENDAR
VERSION:2.0
PRODID:-//ChamberMaster//Event Calendar 2.0//EN
METHOD:PUBLISH
X-PUBLISHED-TTL:P3D
REFRESH-INTERVAL:P3D
CALSCALE:GREGORIAN
BEGIN:VEVENT
DTSTART:20190619T230000Z
DTEND:20190620T000000Z
X-MICROSOFT-CDO-ALLDAYEVENT:FALSE
SUMMARY:Overlooked Books Book Club
DESCRIPTION:We're reading geobiologist Hope Jahren's autobiography Lab Girl. She shares her childhood explorations in science\, her love of plants and trees\, and the journey that brought her to a place where love and work co-exist.
X-ALT-DESC;FMTTYPE=text/html:We&#39\;re reading geobiologist Hope Jahren&#39\;s autobiography Lab Girl. She shares her childhood explorations in science\, her love of plants and trees\, and the journey that brought her to a place where love and work co-exist.
LOCATION:Granville Public Library
UID:e.180.12678
SEQUENCE:3
DTSTAMP:20260420T083750Z
URL:http://business.granvilleoh.com/events/details/overlooked-books-book-club-06-19-2019-12678
END:VEVENT

END:VCALENDAR
