BEGIN:VCALENDAR
VERSION:2.0
PRODID:-//ChamberMaster//Event Calendar 2.0//EN
METHOD:PUBLISH
X-PUBLISHED-TTL:P3D
REFRESH-INTERVAL:P3D
CALSCALE:GREGORIAN
BEGIN:VEVENT
DTSTART:20180620T230000Z
DTEND:20180621T003000Z
X-MICROSOFT-CDO-ALLDAYEVENT:FALSE
SUMMARY:Overlooked Books Book Club
DESCRIPTION:Octavia E. Butler's "Parable of the Sower" is this month's selection. Ms. Butler is the recipient of the Hugo and Nebula awards as well as a MacArthur Foundation "Genius" Grant.
X-ALT-DESC;FMTTYPE=text/html:Octavia E. Butler&#39\;s &quot\;Parable of the Sower&quot\; is this month&#39\;s selection. Ms. Butler is the recipient of the Hugo and Nebula awards as well as a MacArthur Foundation &quot\;Genius&quot\; Grant.
LOCATION:Granville Public Library
UID:e.180.12007
SEQUENCE:3
DTSTAMP:20260419T153429Z
URL:http://business.granvilleoh.com/events/details/overlooked-books-book-club-06-20-2018-12007
END:VEVENT

END:VCALENDAR
