BEGIN:VCALENDAR
VERSION:2.0
PRODID:-//ChamberMaster//Event Calendar 2.0//EN
METHOD:PUBLISH
X-PUBLISHED-TTL:P3D
REFRESH-INTERVAL:P3D
CALSCALE:GREGORIAN
BEGIN:VEVENT
DTSTART:20180718T230000Z
DTEND:20180719T003000Z
X-MICROSOFT-CDO-ALLDAYEVENT:FALSE
SUMMARY:Overlooked Books Book Club
DESCRIPTION:Join us for a discussion of William Kent Krueger's book "Ordinary Grace"\, a story of murder in a small town during the summer of 1961.
X-ALT-DESC;FMTTYPE=text/html:Join us for a discussion of William Kent Krueger&#39\;s book &quot\;Ordinary Grace&quot\;\, a story of murder in a small town during the summer of 1961.
LOCATION:Granville Public Library
UID:e.180.12059
SEQUENCE:3
DTSTAMP:20260419T171149Z
URL:http://business.granvilleoh.com/events/details/overlooked-books-book-club-07-18-2018-12059
END:VEVENT

END:VCALENDAR
