BEGIN:VCALENDAR
VERSION:2.0
PRODID:-//ChamberMaster//Event Calendar 2.0//EN
METHOD:PUBLISH
X-PUBLISHED-TTL:P3D
REFRESH-INTERVAL:P3D
CALSCALE:GREGORIAN
BEGIN:VEVENT
DTSTART:20180815T230000Z
DTEND:20180816T003000Z
X-MICROSOFT-CDO-ALLDAYEVENT:FALSE
SUMMARY:Overlooked Books Book Club
DESCRIPTION:This month\, we'll be reading The Daily Show host Trevor Noah's "Born a Crime: Stories of a South African Childhood". Noah humorously tells the story of his coming-of-age during the end of apartheid and the days of freedom that followed. Copies are available at the main circulation desk.
X-ALT-DESC;FMTTYPE=text/html:This month\, we&#39\;ll be reading The Daily Show host Trevor Noah&#39\;s &quot\;Born a Crime: Stories of a South African Childhood&quot\;. Noah humorously tells the story of his coming-of-age during the end of apartheid and the days of freedom that followed. Copies are available at the main circulation desk.
LOCATION:Granville Public Library
UID:e.180.12092
SEQUENCE:3
DTSTAMP:20260419T193642Z
URL:http://business.granvilleoh.com/events/details/overlooked-books-book-club-08-15-2018-12092
END:VEVENT

END:VCALENDAR
