BEGIN:VCALENDAR
VERSION:2.0
PRODID:-//ChamberMaster//Event Calendar 2.0//EN
METHOD:PUBLISH
X-PUBLISHED-TTL:P3D
REFRESH-INTERVAL:P3D
CALSCALE:GREGORIAN
BEGIN:VEVENT
DTSTART:20190821T230000Z
DTEND:20190822T000000Z
X-MICROSOFT-CDO-ALLDAYEVENT:FALSE
SUMMARY:Overlooked Books Book Club
DESCRIPTION:We're reading An American Marriage by Tayari Jones. Newlyweds\, Celestial and Roy\, are just establishing their lives together when Roy is accused and convicted of a crime Celestial doesn't believe he committed. Find out how they survive events beyond their control and try to put their lives back together. Join us!
X-ALT-DESC;FMTTYPE=text/html:We&#39\;re reading An American Marriage by Tayari Jones. Newlyweds\, Celestial and Roy\, are just establishing their lives together when Roy is accused and convicted of a crime Celestial doesn&#39\;t believe he committed. Find out how they survive events beyond their control and try to put their lives back together. Join us!
LOCATION:Granville Public Library
UID:e.180.12752
SEQUENCE:3
DTSTAMP:20260422T102852Z
URL:http://business.granvilleoh.com/events/details/overlooked-books-book-club-08-21-2019-12752
END:VEVENT

END:VCALENDAR
