BEGIN:VCALENDAR
VERSION:2.0
PRODID:-//ChamberMaster//Event Calendar 2.0//EN
METHOD:PUBLISH
X-PUBLISHED-TTL:P3D
REFRESH-INTERVAL:P3D
CALSCALE:GREGORIAN
BEGIN:VEVENT
DTSTART:20190918T230000Z
DTEND:20190919T000000Z
X-MICROSOFT-CDO-ALLDAYEVENT:FALSE
SUMMARY:Overlooked Books Book Club
DESCRIPTION:We are reading "The Coddling of the American Mind: How Good Intentions and Bad Ideas are Setting Up a Generation for Failure by by Jonathan Haidt and Greg Lukianoff. Join us for a discussion of the ideas presented in this book.
X-ALT-DESC;FMTTYPE=text/html:We are reading &quot\;The Coddling of the American Mind: How Good Intentions and Bad Ideas are Setting Up a Generation for Failure by by Jonathan Haidt and Greg Lukianoff. Join us for a discussion of the ideas presented in this book.
LOCATION:Granville Public Library
UID:e.180.12795
SEQUENCE:3
DTSTAMP:20260422T115908Z
URL:http://business.granvilleoh.com/events/details/overlooked-books-book-club-09-18-2019-12795
END:VEVENT

END:VCALENDAR
