BEGIN:VCALENDAR
VERSION:2.0
PRODID:-//ChamberMaster//Event Calendar 2.0//EN
METHOD:PUBLISH
X-PUBLISHED-TTL:P3D
REFRESH-INTERVAL:P3D
CALSCALE:GREGORIAN
BEGIN:VEVENT
DTSTART:20180919T230000Z
DTEND:20180920T003000Z
X-MICROSOFT-CDO-ALLDAYEVENT:FALSE
SUMMARY:Overlooked Books Book Club
DESCRIPTION:Join us as we read former Ohio resident Celeste Ng's book "Little Fires Everywhere". Set in Shaker Heights the story follows two families unique approaches to life\, uncovers each family member's secrets\, and examines the influence a mother has on her children for better or worse. Copies are available at our main desk.
X-ALT-DESC;FMTTYPE=text/html:Join us as we read former Ohio resident Celeste Ng&#39\;s book &quot\;Little Fires Everywhere&quot\;. Set in Shaker Heights the story follows two families unique approaches to life\, uncovers each family member&#39\;s secrets\, and examines the influence a mother has on her children for better or worse. Copies are available at our main desk.
LOCATION:Granville Public Library
UID:e.180.12112
SEQUENCE:3
DTSTAMP:20260419T210608Z
URL:http://business.granvilleoh.com/events/details/overlooked-books-book-club-09-19-2018-12112
END:VEVENT

END:VCALENDAR
