BEGIN:VCALENDAR
VERSION:2.0
PRODID:-//ChamberMaster//Event Calendar 2.0//EN
METHOD:PUBLISH
X-PUBLISHED-TTL:P3D
REFRESH-INTERVAL:P3D
CALSCALE:GREGORIAN
BEGIN:VEVENT
DTSTART:20191016T230000Z
DTEND:20191017T000000Z
X-MICROSOFT-CDO-ALLDAYEVENT:FALSE
SUMMARY:Overlooked Books Book Club
DESCRIPTION:We reading "The Thirteenth Tale" by Diane Setterfield. Join us for this tale with a twist. Copies are available at our main desk.
X-ALT-DESC;FMTTYPE=text/html:We reading &quot\;The Thirteenth Tale&quot\; by Diane Setterfield. Join us for this tale with a twist. Copies are available at our main desk.
LOCATION:Granville Public Library
UID:e.180.12853
SEQUENCE:3
DTSTAMP:20260422T131831Z
URL:http://business.granvilleoh.com/events/details/overlooked-books-book-club-10-16-2019-12853
END:VEVENT

END:VCALENDAR
