BEGIN:VCALENDAR
VERSION:2.0
PRODID:-//ChamberMaster//Event Calendar 2.0//EN
METHOD:PUBLISH
X-PUBLISHED-TTL:P3D
REFRESH-INTERVAL:P3D
CALSCALE:GREGORIAN
BEGIN:VEVENT
DTSTART:20181017T230000Z
DTEND:20181018T003000Z
X-MICROSOFT-CDO-ALLDAYEVENT:FALSE
SUMMARY:Overlooked Books Book Club
DESCRIPTION:This month we will examine the life of Ohio native\, Neil Armstrong. Choose one of two biographical titles\, "First Man" by James R. Hansen or "Neil Armstrong: A Life of Flight" by Jay Barbree. Copies are available at the main circulation desk.
X-ALT-DESC;FMTTYPE=text/html:This month we will examine the life of Ohio native\, Neil Armstrong. Choose one of two biographical titles\, &quot\;First Man&quot\; by James R. Hansen or &quot\;Neil Armstrong: A Life of Flight&quot\; by Jay Barbree. Copies are available at the main circulation desk.
LOCATION:Granville Public Library
UID:e.180.12135
SEQUENCE:3
DTSTAMP:20260419T222939Z
URL:http://business.granvilleoh.com/events/details/overlooked-books-book-club-10-17-2018-12135
END:VEVENT

END:VCALENDAR
