BEGIN:VCALENDAR
VERSION:2.0
PRODID:-//ChamberMaster//Event Calendar 2.0//EN
METHOD:PUBLISH
X-PUBLISHED-TTL:P3D
REFRESH-INTERVAL:P3D
CALSCALE:GREGORIAN
BEGIN:VEVENT
DTSTART:20191121T000000Z
DTEND:20191121T010000Z
X-MICROSOFT-CDO-ALLDAYEVENT:FALSE
SUMMARY:Overlooked Books Book Club
DESCRIPTION:Make time for books! We're reading and discussing The Good Liar by Nicholas Searle\; the story of Roy\, a conman making his last con and the web of lies that has brought him to this point. Pick up a copy at the main desk.
X-ALT-DESC;FMTTYPE=text/html:Make time for books! We&#39\;re reading and discussing The Good Liar by Nicholas Searle\; the story of Roy\, a conman making his last con and the web of lies that has brought him to this point. Pick up a copy at the main desk.
LOCATION:Granville Public Library
UID:e.180.12897
SEQUENCE:3
DTSTAMP:20260422T144643Z
URL:http://business.granvilleoh.com/events/details/overlooked-books-book-club-11-20-2019-12897
END:VEVENT

END:VCALENDAR
