BEGIN:VCALENDAR
VERSION:2.0
PRODID:-//ChamberMaster//Event Calendar 2.0//EN
METHOD:PUBLISH
X-PUBLISHED-TTL:P3D
REFRESH-INTERVAL:P3D
CALSCALE:GREGORIAN
BEGIN:VEVENT
DTSTART:20180516T230000Z
DTEND:20180517T003000Z
X-MICROSOFT-CDO-ALLDAYEVENT:FALSE
SUMMARY:Overlooked Books Book Club
DESCRIPTION:We're reading Pulitzer Prize winning author Jeffrey Eugenides' 1993 novel\, "The Virgin Suicides". Join us for a lively discussion!
X-ALT-DESC;FMTTYPE=text/html:We&#39\;re reading Pulitzer Prize winning author Jeffrey Eugenides&#39\; 1993 novel\, &quot\;The Virgin Suicides&quot\;. Join us for a lively discussion!
LOCATION:Granville Public Library
UID:e.180.11991
SEQUENCE:3
DTSTAMP:20260421T105508Z
URL:http://business.granvilleoh.com/events/details/overlooked-books-book-club-11991
END:VEVENT

END:VCALENDAR
