BEGIN:VCALENDAR
VERSION:2.0
PRODID:-//ChamberMaster//Event Calendar 2.0//EN
METHOD:PUBLISH
X-PUBLISHED-TTL:P3D
REFRESH-INTERVAL:P3D
CALSCALE:GREGORIAN
BEGIN:VEVENT
DTSTART:20191219T000000Z
DTEND:20191219T010000Z
X-MICROSOFT-CDO-ALLDAYEVENT:FALSE
SUMMARY:Overlooked Books Book Club
DESCRIPTION:Join us to discuss Eleanor Oliphant is Completely Fine by Gail Honeyman. Eleanor is a quirky\, lonely character lacking a filter until her life begins to change when Raymond and then Sammy enter her story. Pick up a copy of this humorous and sometimes heartbreaking book at our main desk.
X-ALT-DESC;FMTTYPE=text/html:Join us to discuss Eleanor Oliphant is Completely Fine by Gail Honeyman. Eleanor is a quirky\, lonely character lacking a filter until her life begins to change when Raymond and then Sammy enter her story. Pick up a copy of this humorous and sometimes heartbreaking book at our main desk.
LOCATION:Granville Public Library
UID:e.180.13998
SEQUENCE:3
DTSTAMP:20260422T161314Z
URL:http://business.granvilleoh.com/events/details/overlooked-books-book-club-12-18-2019-13998
END:VEVENT

END:VCALENDAR
