BEGIN:VCALENDAR
VERSION:2.0
PRODID:-//ChamberMaster//Event Calendar 2.0//EN
METHOD:PUBLISH
X-PUBLISHED-TTL:P3D
REFRESH-INTERVAL:P3D
CALSCALE:GREGORIAN
BEGIN:VEVENT
DTSTART:20181220T000000Z
DTEND:20181220T013000Z
X-MICROSOFT-CDO-ALLDAYEVENT:FALSE
SUMMARY:Overlooked Books Book Club
DESCRIPTION:Join us for the discussion of the debut novel by Ruth Hogan\, The Keeper of Lost Things. In the season of giving\, this novel explores the meaning and importance of mementos in our lives. Copies are available at our main desk.
X-ALT-DESC;FMTTYPE=text/html:Join us for the discussion of the debut novel by Ruth Hogan\, The Keeper of Lost Things. In the season of giving\, this novel explores the meaning and importance of mementos in our lives. Copies are available at our main desk.
LOCATION:Granville Public Library
UID:e.180.12251
SEQUENCE:3
DTSTAMP:20260419T234059Z
URL:http://business.granvilleoh.com/events/details/overlooked-books-book-club-12-19-2018-12251
END:VEVENT

END:VCALENDAR
